BEGIN:VCALENDAR
VERSION:2.0
PRODID:-//ZOUM - ECPv6.15.20//NONSGML v1.0//EN
CALSCALE:GREGORIAN
METHOD:PUBLISH
X-ORIGINAL-URL:https://www.zoum.at
X-WR-CALDESC:Veranstaltungen für ZOUM
REFRESH-INTERVAL;VALUE=DURATION:PT1H
X-Robots-Tag:noindex
X-PUBLISHED-TTL:PT1H
BEGIN:VTIMEZONE
TZID:UTC
BEGIN:STANDARD
TZOFFSETFROM:+0000
TZOFFSETTO:+0000
TZNAME:UTC
DTSTART:20250101T000000
END:STANDARD
END:VTIMEZONE
BEGIN:VEVENT
DTSTART;TZID=UTC:20260418T130000
DTEND;TZID=UTC:20260418T180000
DTSTAMP:20260424T002217
CREATED:20260216T144226Z
LAST-MODIFIED:20260416T073453Z
UID:1115-1776517200-1776535200@www.zoum.at
SUMMARY:⚽19. Runde -  Samstag 18. April 2026 - Heimmatch in Festenburg
DESCRIPTION:⚽  Spiele in Festenburg ⚽\n13:00 Uhr  SG Joglland-Vornholz-Oberes Feistritztal-St. Jakob / W. IB vs. Kaindorf / H\n16:00 Uhr UFC St. Jakob im Walde/Festenburg  vs.  USC RB Schäffern \n  \nLink zur OEFB Seite \n 
URL:https://www.zoum.at/event/19-runde-heimmatch-in-festenburg/
END:VEVENT
END:VCALENDAR