BEGIN:VCALENDAR
VERSION:2.0
PRODID:-//ZOUM - ECPv6.15.20//NONSGML v1.0//EN
CALSCALE:GREGORIAN
METHOD:PUBLISH
X-WR-CALNAME:ZOUM
X-ORIGINAL-URL:https://www.zoum.at
X-WR-CALDESC:Veranstaltungen für ZOUM
REFRESH-INTERVAL;VALUE=DURATION:PT1H
X-Robots-Tag:noindex
X-PUBLISHED-TTL:PT1H
BEGIN:VTIMEZONE
TZID:UTC
BEGIN:STANDARD
TZOFFSETFROM:+0000
TZOFFSETTO:+0000
TZNAME:UTC
DTSTART:20230101T000000
END:STANDARD
END:VTIMEZONE
BEGIN:VEVENT
DTSTART;TZID=UTC:20260418T130000
DTEND;TZID=UTC:20260418T180000
DTSTAMP:20260423T205305
CREATED:20260216T144226Z
LAST-MODIFIED:20260416T073453Z
UID:1115-1776517200-1776535200@www.zoum.at
SUMMARY:⚽19. Runde -  Samstag 18. April 2026 - Heimmatch in Festenburg
DESCRIPTION:⚽  Spiele in Festenburg ⚽\n13:00 Uhr  SG Joglland-Vornholz-Oberes Feistritztal-St. Jakob / W. IB vs. Kaindorf / H\n16:00 Uhr UFC St. Jakob im Walde/Festenburg  vs.  USC RB Schäffern \n  \nLink zur OEFB Seite \n 
URL:https://www.zoum.at/event/19-runde-heimmatch-in-festenburg/
END:VEVENT
BEGIN:VEVENT
DTSTART;TZID=UTC:20260328T150000
DTEND;TZID=UTC:20260328T170000
DTSTAMP:20260423T205305
CREATED:20260216T144030Z
LAST-MODIFIED:20260303T070113Z
UID:1108-1774710000-1774717200@www.zoum.at
SUMMARY:⚽16. Runde - Samstag 28. März 2026 - Heimmatch in Festenburg
DESCRIPTION:⚽ Derby in Festenburg ⚽\nUFC St. Jakob im Walde/Festenburg vs.  St. Lorenzen/Wechsel
URL:https://www.zoum.at/event/16-runde-heimmatch-in-festenburg/
END:VEVENT
BEGIN:VEVENT
DTSTART;TZID=UTC:20260315T100000
DTEND;TZID=UTC:20260315T113000
DTSTAMP:20260423T205305
CREATED:20260303T065753Z
LAST-MODIFIED:20260303T070014Z
UID:1129-1773568800-1773574200@www.zoum.at
SUMMARY:📆 Jahreshauptversammlung
DESCRIPTION:JAHRESHAUPTVERSAMMLUNG – Zeit zum “ZOUM kuma” \nWann: Sonntag\, 15. März 2026 um 10:00 Uhr\nWo: Café Hammerstub’n\, Bruck an der Lafnitz \nTAGESORDNUNG: \n1. Begrüßung\n2. Feststellung der Beschlussfähigkeit (sind weniger als 50% der Mitglieder anwesend\, muss\nlaut Statuten 15 Minuten zugewartet werden)\n3. Kassabericht und Entlastung des Kassiers\n4. Jahresbericht\n5. Danksagung und Ausblick\n6. Allfälliges\nBitte um Rückmeldung\, ob du dabei bist in unserer WhatsApp – Gruppe bzw. alternativ an\nLeopold Kerschbaumer (0664/8347697). \n 
URL:https://www.zoum.at/event/jahreshauptversammlung/
END:VEVENT
BEGIN:VEVENT
DTSTART;TZID=UTC:20260214T190000
DTEND;TZID=UTC:20260214T190000
DTSTAMP:20260423T205305
CREATED:20251215T141905Z
LAST-MODIFIED:20251215T141905Z
UID:1095-1771095600-1771095600@www.zoum.at
SUMMARY:🎭🍻Faschingsparty🎭🍻
DESCRIPTION:🎭 Faschingsparty im Sporthaus 🎭 \nFaschingsparty im Vereinshaus – mit Musik\, guter Laune und kreativen Kostümen.Kommt vorbei und feiert mit uns einen bunten Faschingsabend! Verkleidung erwünscht 🎉
URL:https://www.zoum.at/event/%f0%9f%8e%ad%f0%9f%8d%bbfaschingsparty%f0%9f%8e%ad%f0%9f%8d%bb/
LOCATION:Sportanlage Festenburg\, Festenburg\, Österreich
ATTACH;FMTTYPE=image/jpeg:https://www.zoum.at/wp-content/uploads/2025/12/Plakat2026.jpg
ORGANIZER;CN="ZOUM Gemeinschaftsverein Festenburg":MAILTO:kontakt@zoum.at
END:VEVENT
BEGIN:VEVENT
DTSTART;VALUE=DATE:20260110
DTEND;VALUE=DATE:20260111
DTSTAMP:20260423T205305
CREATED:20251215T142959Z
LAST-MODIFIED:20251215T142959Z
UID:1103-1768003200-1768089599@www.zoum.at
SUMMARY:Maschkern
DESCRIPTION:Lasst uns das neue Jahr mit dem Besuch und dem bunten Treiben der MASCHKERer beginnen!
URL:https://www.zoum.at/event/maschkern/
LOCATION:Festenburg / Bruck\, 8251
ATTACH;FMTTYPE=image/png:https://www.zoum.at/wp-content/uploads/2024/11/Maschkern_2024.png
ORGANIZER;CN="ZOUM Gemeinschaftsverein Festenburg":MAILTO:kontakt@zoum.at
END:VEVENT
BEGIN:VEVENT
DTSTART;TZID=UTC:20251219T170000
DTEND;TZID=UTC:20251219T220000
DTSTAMP:20260423T205305
CREATED:20251201T072027Z
LAST-MODIFIED:20251201T072209Z
UID:1092-1766163600-1766181600@www.zoum.at
SUMMARY:ZOUM-Kommen im Advent 💫
DESCRIPTION:**Glühweinstand am Sportplatz** \nWir laden Euch herzlich zu unserem Glühweinstand ein – kommt vorbei\, genießt die Stimmung und verbringt ein paar entspannte Stunden mit uns. \nFür weihnachtliche Verköstigung und Unterhaltung ist selbstverständlich gesorgt.
URL:https://www.zoum.at/event/zoum-kommen-im-advent-%f0%9f%92%ab-2/
LOCATION:Sportanlage Festenburg\, Festenburg\, Österreich
ORGANIZER;CN="ZOUM Gemeinschaftsverein Festenburg":MAILTO:kontakt@zoum.at
END:VEVENT
BEGIN:VEVENT
DTSTART;TZID=UTC:20251212T170000
DTEND;TZID=UTC:20251212T220000
DTSTAMP:20260423T205305
CREATED:20251201T071901Z
LAST-MODIFIED:20251201T071901Z
UID:1088-1765558800-1765576800@www.zoum.at
SUMMARY:ZOUM-Kommen im Advent 💫
DESCRIPTION:**Glühweinstand am Sportplatz** \nWir laden Euch herzlich zu unserem Glühweinstand ein – kommt vorbei\, genießt die Stimmung und verbringt ein paar entspannte Stunden mit uns! \nFür weihnachtliche Verköstigung und Unterhaltung ist selbstverständlich gesorgt.
URL:https://www.zoum.at/event/zoum-kommen-im-advent-%f0%9f%92%ab/
LOCATION:Sportanlage Festenburg\, Festenburg\, Österreich
ATTACH;FMTTYPE=image/jpeg:https://www.zoum.at/wp-content/uploads/2025/12/96a3dc75-47bc-47a0-bae9-6d01b24fbb2e-e1764573503445.jpg
ORGANIZER;CN="ZOUM Gemeinschaftsverein Festenburg":MAILTO:kontakt@zoum.at
END:VEVENT
BEGIN:VEVENT
DTSTART;TZID=UTC:20251202T150000
DTEND;TZID=UTC:20251202T170000
DTSTAMP:20260423T205305
CREATED:20251102T093816Z
LAST-MODIFIED:20251102T093816Z
UID:1077-1764687600-1764694800@www.zoum.at
SUMMARY:Demenztreffen
DESCRIPTION:Wir laden alle Menschen mit demenzieller Beeinträchtigung in der Region und ihre Angehörigen herzlich zu den Demenztreffen ein!
URL:https://www.zoum.at/event/demenztreffen-3/
LOCATION:Sportanlage Festenburg\, Festenburg\, Österreich
END:VEVENT
BEGIN:VEVENT
DTSTART;TZID=UTC:20251118T150000
DTEND;TZID=UTC:20251118T170000
DTSTAMP:20260423T205305
CREATED:20251102T093704Z
LAST-MODIFIED:20251102T093704Z
UID:1075-1763478000-1763485200@www.zoum.at
SUMMARY:Demenztreffen
DESCRIPTION:Wir laden alle Menschen mit demenzieller Beeinträchtigung in der Region und ihre Angehörigen herzlich zu den Demenztreffen ein!
URL:https://www.zoum.at/event/demenztreffen-2/
LOCATION:Sportanlage Festenburg\, Festenburg\, Österreich
END:VEVENT
BEGIN:VEVENT
DTSTART;TZID=UTC:20251025T160000
DTEND;TZID=UTC:20251025T210000
DTSTAMP:20260423T205305
CREATED:20250816T202150Z
LAST-MODIFIED:20250816T202150Z
UID:1048-1761408000-1761426000@www.zoum.at
SUMMARY:⚽ Heimmatch ⚽
DESCRIPTION:Gebietsliga Ost – Meisterschaftsspiel:  Sankt Jakob i.W./Festenburg  –  SV Gutenberg   –> Beginn noch nicht fixiert
URL:https://www.zoum.at/event/%e2%9a%bd-heimmatch-%e2%9a%bd/
LOCATION:Sportanlage Festenburg\, Festenburg\, Österreich
END:VEVENT
BEGIN:VEVENT
DTSTART;TZID=UTC:20250726T110000
DTEND;TZID=UTC:20250726T235900
DTSTAMP:20260423T205305
CREATED:20250529T094346Z
LAST-MODIFIED:20250529T094346Z
UID:829-1753527600-1753574340@www.zoum.at
SUMMARY:Steel-Dart Turnier (Ausweich-Location bei Schlechtwetter)
DESCRIPTION:
URL:https://www.zoum.at/event/steel-dart-turnier-ausweich-location-bei-schlechtwetter/
LOCATION:Sportanlage Festenburg\, Festenburg\, Österreich
END:VEVENT
BEGIN:VEVENT
DTSTART;VALUE=DATE:20250704
DTEND;VALUE=DATE:20250707
DTSTAMP:20260423T205305
CREATED:20241123T111314Z
LAST-MODIFIED:20250517T174310Z
UID:518-1751587200-1751846399@www.zoum.at
SUMMARY:Sommerfest 2025
DESCRIPTION:Freitag   04.Juli : Riesenwuzzlerturnier \nSamstag 05.Juli : Kleinfeldturnier und anschl. Kumpfmühlrevival-Party \nSonntag 06. Juli: Heilige Messe & Frühschoppen \n 
URL:https://www.zoum.at/event/sommerfest-2/
LOCATION:Sportanlage Festenburg\, Festenburg\, Österreich
ORGANIZER;CN="ZOUM Gemeinschaftsverein Festenburg":MAILTO:kontakt@zoum.at
END:VEVENT
BEGIN:VEVENT
DTSTART;TZID=UTC:20250607T140000
DTEND;TZID=UTC:20250607T180000
DTSTAMP:20260423T205305
CREATED:20240802T114851Z
LAST-MODIFIED:20250515T055118Z
UID:506-1749304800-1749319200@www.zoum.at
SUMMARY:26. Runde Fussball-Meisterschaft: Sankt Jakob i. W./Festenburg - Neudau
DESCRIPTION:1. Klasse Ost – Meisterschaftsspiele \n\n1B:  Sankt Jakob i.W./Festenburg  –  Burgau/Buch/Neudau    –> Beginn 14:00 \nKM: Sankt Jakob i.W./Festenburg  –  Neudau   –> Beginn 17:00
URL:https://www.zoum.at/event/26-runde-fussball-meisterschaft-sankt-jakob-i-w-festenburg-neudau-2/
LOCATION:Sportanlage Festenburg\, Festenburg\, Österreich
ORGANIZER;CN="ZOUM Gemeinschaftsverein Festenburg":MAILTO:kontakt@zoum.at
END:VEVENT
BEGIN:VEVENT
DTSTART;TZID=UTC:20250524T140000
DTEND;TZID=UTC:20250524T180000
DTSTAMP:20260423T205305
CREATED:20240802T114626Z
LAST-MODIFIED:20250515T055036Z
UID:505-1748095200-1748109600@www.zoum.at
SUMMARY:24. Runde Fussball-Meisterschaft: Sankt Jakob i. W./Festenburg - Vornholz
DESCRIPTION:1. Klasse Ost – Meisterschaftsspiele \n\n1B:  Sankt Jakob i. W./Festenburg  –  Großsteinbach    –> Beginn 13:00 \nU13: Sankt Jakob i. W. – FAZ Vorau  –> Beginn 15:00 \nKM: Sankt Jakob i. W./Festenburg  –  Vornholz    –> Beginn 17:00
URL:https://www.zoum.at/event/24-runde-fussball-meisterschaft-sankt-jakob-i-w-festenburg-vornholz-2/
LOCATION:Sportanlage Festenburg\, Festenburg\, Österreich
ORGANIZER;CN="ZOUM Gemeinschaftsverein Festenburg":MAILTO:kontakt@zoum.at
END:VEVENT
BEGIN:VEVENT
DTSTART;TZID=UTC:20250516T170000
DTEND;TZID=UTC:20250516T210000
DTSTAMP:20260423T205305
CREATED:20241123T111215Z
LAST-MODIFIED:20250515T081337Z
UID:516-1747414800-1747429200@www.zoum.at
SUMMARY:Ladies 2nd Hand Popup Store
DESCRIPTION:Das Event mit Wohlfühlfaktor…… \n🛍️ Weiter zur Homepage
URL:https://www.zoum.at/event/aviso-ladies-2nd-hand-popup-store-2/
LOCATION:Sportanlage Festenburg\, Festenburg\, Österreich
ORGANIZER;CN="ZOUM Gemeinschaftsverein Festenburg":MAILTO:kontakt@zoum.at
END:VEVENT
BEGIN:VEVENT
DTSTART;TZID=UTC:20250501T150000
DTEND;TZID=UTC:20250501T235900
DTSTAMP:20260423T205305
CREATED:20241123T111011Z
LAST-MODIFIED:20250320T142357Z
UID:515-1746111600-1746143940@www.zoum.at
SUMMARY:Maibaumaufstellen
DESCRIPTION:
URL:https://www.zoum.at/event/aviso-maibaum-aufstellen-2/
LOCATION:Sportanlage Festenburg\, Festenburg\, Österreich
ORGANIZER;CN="ZOUM Gemeinschaftsverein Festenburg":MAILTO:kontakt@zoum.at
END:VEVENT
BEGIN:VEVENT
DTSTART;TZID=UTC:20250201T190000
DTEND;TZID=UTC:20250201T235900
DTSTAMP:20260423T205305
CREATED:20241123T110818Z
LAST-MODIFIED:20241123T110818Z
UID:514-1738436400-1738454340@www.zoum.at
SUMMARY:Faschings-Gschnas
DESCRIPTION:Herzliche Einladung zum traditionellen Faschings-Gschnas. \n\“Here goes the post off!\“ \nEINTRITT FREI! \n \n 
URL:https://www.zoum.at/event/aviso-faschings-gschnas-2/
LOCATION:Sportanlage Festenburg\, Festenburg\, Österreich
ORGANIZER;CN="ZOUM Gemeinschaftsverein Festenburg":MAILTO:kontakt@zoum.at
END:VEVENT
BEGIN:VEVENT
DTSTART;TZID=UTC:20250125T080000
DTEND;TZID=UTC:20250125T160000
DTSTAMP:20260423T205305
CREATED:20241123T110532Z
LAST-MODIFIED:20241123T110532Z
UID:513-1737792000-1737820800@www.zoum.at
SUMMARY:Maschkern
DESCRIPTION:Lasst uns das neue Jahr mit dem Besuch und dem bunten Treiben der MASCHKERer beginnen!
URL:https://www.zoum.at/event/aviso-maschkern-2/
LOCATION:Festenburg / Bruck\, 8251
ORGANIZER;CN="ZOUM Gemeinschaftsverein Festenburg":MAILTO:kontakt@zoum.at
END:VEVENT
BEGIN:VEVENT
DTSTART;TZID=UTC:20241231T150000
DTEND;TZID=UTC:20241231T235900
DTSTAMP:20260423T205305
CREATED:20241123T110022Z
LAST-MODIFIED:20241123T110022Z
UID:512-1735657200-1735689540@www.zoum.at
SUMMARY:Silvester-Party
DESCRIPTION:
URL:https://www.zoum.at/event/aviso-kinder-silvester-2/
LOCATION:Sportanlage Festenburg\, Festenburg\, Österreich
ORGANIZER;CN="ZOUM Gemeinschaftsverein Festenburg":MAILTO:kontakt@zoum.at
END:VEVENT
BEGIN:VEVENT
DTSTART;TZID=UTC:20241220T170000
DTEND;TZID=UTC:20241220T235900
DTSTAMP:20260423T205305
CREATED:20241123T105747Z
LAST-MODIFIED:20241123T105747Z
UID:511-1734714000-1734739140@www.zoum.at
SUMMARY:Glühweinstand
DESCRIPTION:
URL:https://www.zoum.at/event/362-2/
LOCATION:Sportanlage Festenburg\, Festenburg\, Österreich
ORGANIZER;CN="ZOUM Gemeinschaftsverein Festenburg":MAILTO:kontakt@zoum.at
END:VEVENT
BEGIN:VEVENT
DTSTART;TZID=UTC:20241213T170000
DTEND;TZID=UTC:20241213T235900
DTSTAMP:20260423T205305
CREATED:20241123T105523Z
LAST-MODIFIED:20241123T105523Z
UID:510-1734109200-1734134340@www.zoum.at
SUMMARY:Glühweinstand
DESCRIPTION:
URL:https://www.zoum.at/event/gluehweinstand-2/
LOCATION:Sportanlage Festenburg\, Festenburg\, Österreich
ORGANIZER;CN="ZOUM Gemeinschaftsverein Festenburg":MAILTO:kontakt@zoum.at
END:VEVENT
BEGIN:VEVENT
DTSTART;TZID=UTC:20240907T140000
DTEND;TZID=UTC:20240907T180000
DTSTAMP:20260423T205305
CREATED:20240802T113442Z
LAST-MODIFIED:20240802T113757Z
UID:138-1725717600-1725732000@www.zoum.at
SUMMARY:4. Runde Fussball-Meisterschaft: Sankt Jakob i. W./Festenburg - Anger II
DESCRIPTION:1. Klasse Ost – Meisterschaftsspiele \n\n1B:  Sankt Jakob i.W./Festenburg  –  Naintsch / Puch    –> Beginn 14:00 \nKM: Sankt Jakob i.W./Festenburg  –  Naintsch / Puch    –> Beginn 16:30 \n  \nAchtung: Möglicher Verlegung auf Sonntag in Abklärung!
URL:https://www.zoum.at/event/4-runde-fussball-meisterschaft-sankt-jakob-i-w-festenburg-anger-ii/
LOCATION:Sportanlage Festenburg\, Festenburg\, Österreich
ORGANIZER;CN="ZOUM Gemeinschaftsverein Festenburg":MAILTO:kontakt@zoum.at
END:VEVENT
BEGIN:VEVENT
DTSTART;TZID=UTC:20240906T170000
DTEND;TZID=UTC:20240906T210000
DTSTAMP:20260423T205305
CREATED:20240819T180949Z
LAST-MODIFIED:20240819T182656Z
UID:187-1725642000-1725656400@www.zoum.at
SUMMARY:„Ladies 2nd Hand Pop Up Store“
DESCRIPTION:Informationen und Details!
URL:https://www.zoum.at/event/ladies-2nd-hand-pop-up-store/
LOCATION:Sportanlage Festenburg\, Festenburg\, Österreich
ORGANIZER;CN="ZOUM Gemeinschaftsverein Festenburg":MAILTO:kontakt@zoum.at
END:VEVENT
BEGIN:VEVENT
DTSTART;VALUE=DATE:20240831
DTEND;VALUE=DATE:20240901
DTSTAMP:20260423T205305
CREATED:20240802T115812Z
LAST-MODIFIED:20240802T115936Z
UID:148-1725062400-1725148799@www.zoum.at
SUMMARY:Motorrad - Treffen des MCB Bruck/Lafnitz
DESCRIPTION:Eintritt frei!
URL:https://www.zoum.at/event/motorrad-treffen-des-mcb-bruck-lafnitz/
LOCATION:Sportanlage Festenburg\, Festenburg\, Österreich
END:VEVENT
BEGIN:VEVENT
DTSTART;VALUE=DATE:20240817
DTEND;VALUE=DATE:20240818
DTSTAMP:20260423T205305
CREATED:20240623T132310Z
LAST-MODIFIED:20240623T132310Z
UID:48-1723852800-1723939199@www.zoum.at
SUMMARY:FAZ - Jugend Turnier
DESCRIPTION:t.b.d.
URL:https://www.zoum.at/event/faz-jugend-turnier/
LOCATION:Sportanlage Festenburg\, Festenburg\, Österreich
END:VEVENT
BEGIN:VEVENT
DTSTART;TZID=UTC:20240727T180000
DTEND;TZID=UTC:20240727T235900
DTSTAMP:20260423T205305
CREATED:20240802T123016Z
LAST-MODIFIED:20240802T123016Z
UID:162-1722103200-1722124740@www.zoum.at
SUMMARY:Vereins intern
DESCRIPTION:
URL:https://www.zoum.at/event/vereins-intern/
LOCATION:Sportanlage Festenburg\, Festenburg\, Österreich
ORGANIZER;CN="ZOUM Gemeinschaftsverein Festenburg":MAILTO:kontakt@zoum.at
END:VEVENT
END:VCALENDAR