BEGIN:VCALENDAR
VERSION:2.0
PRODID:-//ZOUM - ECPv6.15.20//NONSGML v1.0//EN
CALSCALE:GREGORIAN
METHOD:PUBLISH
X-WR-CALNAME:ZOUM
X-ORIGINAL-URL:https://www.zoum.at
X-WR-CALDESC:Veranstaltungen für ZOUM
REFRESH-INTERVAL;VALUE=DURATION:PT1H
X-Robots-Tag:noindex
X-PUBLISHED-TTL:PT1H
BEGIN:VTIMEZONE
TZID:UTC
BEGIN:STANDARD
TZOFFSETFROM:+0000
TZOFFSETTO:+0000
TZNAME:UTC
DTSTART:20250101T000000
END:STANDARD
END:VTIMEZONE
BEGIN:VEVENT
DTSTART;TZID=UTC:20260214T190000
DTEND;TZID=UTC:20260214T190000
DTSTAMP:20260424T023854
CREATED:20251215T141905Z
LAST-MODIFIED:20251215T141905Z
UID:1095-1771095600-1771095600@www.zoum.at
SUMMARY:🎭🍻Faschingsparty🎭🍻
DESCRIPTION:🎭 Faschingsparty im Sporthaus 🎭 \nFaschingsparty im Vereinshaus – mit Musik\, guter Laune und kreativen Kostümen.Kommt vorbei und feiert mit uns einen bunten Faschingsabend! Verkleidung erwünscht 🎉
URL:https://www.zoum.at/event/%f0%9f%8e%ad%f0%9f%8d%bbfaschingsparty%f0%9f%8e%ad%f0%9f%8d%bb/
LOCATION:Sportanlage Festenburg\, Festenburg\, Österreich
ATTACH;FMTTYPE=image/jpeg:https://www.zoum.at/wp-content/uploads/2025/12/Plakat2026.jpg
ORGANIZER;CN="ZOUM Gemeinschaftsverein Festenburg":MAILTO:kontakt@zoum.at
END:VEVENT
END:VCALENDAR