BEGIN:VCALENDAR
VERSION:2.0
PRODID:-//ZOUM - ECPv6.15.20//NONSGML v1.0//EN
CALSCALE:GREGORIAN
METHOD:PUBLISH
X-ORIGINAL-URL:https://www.zoum.at
X-WR-CALDESC:Veranstaltungen für ZOUM
REFRESH-INTERVAL;VALUE=DURATION:PT1H
X-Robots-Tag:noindex
X-PUBLISHED-TTL:PT1H
BEGIN:VTIMEZONE
TZID:UTC
BEGIN:STANDARD
TZOFFSETFROM:+0000
TZOFFSETTO:+0000
TZNAME:UTC
DTSTART:20250101T000000
END:STANDARD
END:VTIMEZONE
BEGIN:VEVENT
DTSTART;TZID=UTC:20260315T100000
DTEND;TZID=UTC:20260315T113000
DTSTAMP:20260424T001747
CREATED:20260303T065753Z
LAST-MODIFIED:20260303T070014Z
UID:1129-1773568800-1773574200@www.zoum.at
SUMMARY:📆 Jahreshauptversammlung
DESCRIPTION:JAHRESHAUPTVERSAMMLUNG – Zeit zum “ZOUM kuma” \nWann: Sonntag\, 15. März 2026 um 10:00 Uhr\nWo: Café Hammerstub’n\, Bruck an der Lafnitz \nTAGESORDNUNG: \n1. Begrüßung\n2. Feststellung der Beschlussfähigkeit (sind weniger als 50% der Mitglieder anwesend\, muss\nlaut Statuten 15 Minuten zugewartet werden)\n3. Kassabericht und Entlastung des Kassiers\n4. Jahresbericht\n5. Danksagung und Ausblick\n6. Allfälliges\nBitte um Rückmeldung\, ob du dabei bist in unserer WhatsApp – Gruppe bzw. alternativ an\nLeopold Kerschbaumer (0664/8347697). \n 
URL:https://www.zoum.at/event/jahreshauptversammlung/
END:VEVENT
BEGIN:VEVENT
DTSTART;TZID=UTC:20260328T150000
DTEND;TZID=UTC:20260328T170000
DTSTAMP:20260424T001747
CREATED:20260216T144030Z
LAST-MODIFIED:20260303T070113Z
UID:1108-1774710000-1774717200@www.zoum.at
SUMMARY:⚽16. Runde - Samstag 28. März 2026 - Heimmatch in Festenburg
DESCRIPTION:⚽ Derby in Festenburg ⚽\nUFC St. Jakob im Walde/Festenburg vs.  St. Lorenzen/Wechsel
URL:https://www.zoum.at/event/16-runde-heimmatch-in-festenburg/
END:VEVENT
END:VCALENDAR